BEGIN:VCALENDAR
VERSION:2.0
PRODID:-//Montford Point Marines of America, Inc. - ECPv6.15.20//NONSGML v1.0//EN
CALSCALE:GREGORIAN
METHOD:PUBLISH
X-ORIGINAL-URL:https://montfordpointmarinesamerica.org
X-WR-CALDESC:Events for Montford Point Marines of America, Inc.
REFRESH-INTERVAL;VALUE=DURATION:PT1H
X-Robots-Tag:noindex
X-PUBLISHED-TTL:PT1H
BEGIN:VTIMEZONE
TZID:America/Chicago
BEGIN:DAYLIGHT
TZOFFSETFROM:-0600
TZOFFSETTO:-0500
TZNAME:CDT
DTSTART:20180311T080000
END:DAYLIGHT
BEGIN:STANDARD
TZOFFSETFROM:-0500
TZOFFSETTO:-0600
TZNAME:CST
DTSTART:20181104T070000
END:STANDARD
BEGIN:DAYLIGHT
TZOFFSETFROM:-0600
TZOFFSETTO:-0500
TZNAME:CDT
DTSTART:20190310T080000
END:DAYLIGHT
BEGIN:STANDARD
TZOFFSETFROM:-0500
TZOFFSETTO:-0600
TZNAME:CST
DTSTART:20191103T070000
END:STANDARD
BEGIN:DAYLIGHT
TZOFFSETFROM:-0600
TZOFFSETTO:-0500
TZNAME:CDT
DTSTART:20200308T080000
END:DAYLIGHT
BEGIN:STANDARD
TZOFFSETFROM:-0500
TZOFFSETTO:-0600
TZNAME:CST
DTSTART:20201101T070000
END:STANDARD
END:VTIMEZONE
BEGIN:VEVENT
DTSTART;TZID=America/Chicago:20190623T150000
DTEND;TZID=America/Chicago:20190623T210000
DTSTAMP:20260424T152957
CREATED:20180624T200038Z
LAST-MODIFIED:20190503T221039Z
UID:1219-1561302000-1561323600@montfordpointmarinesamerica.org
SUMMARY:2019 National Annual Heritage Military Banquet & Awards Ceremony
DESCRIPTION:
URL:https://montfordpointmarinesamerica.org/event/2018-national-annual-heritage-military-banquet-awards-ceremony-location/
LOCATION:Burton Manor Banquet & Conference Center\, 27777 Schoolcraft Rd.\, Livonia\, MI\, 48150\, United States
CATEGORIES:Banquet
ORGANIZER;CN="Montford Point Marines of America%2C Inc. (a 501 C 3)":MAILTO:montfordpointmarinesmichigan@comcast.net
END:VEVENT
END:VCALENDAR